BEGIN:VCALENDAR
PRODID:-//eluceo/ical//2.0/EN
VERSION:2.0
CALSCALE:GREGORIAN
BEGIN:VEVENT
UID:d0d80ddf6999d29e0584c44b4bcac0eb
DTSTAMP:20260421T050820Z
SUMMARY:Amicale du Rawyl 2025
DESCRIPTION:L'Echo du Rawyl sera présente à l'Amicale du Rawyl à Lens.
URL:https://www.echodurawyl.ch/evenements/amicale-du-rawyl-2025-3
DTSTART:20250606T100000
DTEND:20250608T230000
END:VEVENT
END:VCALENDAR
