BEGIN:VCALENDAR
PRODID:-//eluceo/ical//2.0/EN
VERSION:2.0
CALSCALE:GREGORIAN
BEGIN:VEVENT
UID:57e5409567f18500f9c896d6e5ecf1d9
DTSTAMP:20260423T113715Z
SUMMARY:Concert de préparation
DESCRIPTION:Concert de préparation en vue de la fête fédérale.
URL:https://www.echodurawyl.ch/evenements/concert-de-preparation-12
DTSTART:20260501T200000
DTEND:20260501T213000
END:VEVENT
END:VCALENDAR
